BEGIN:VCALENDAR
VERSION:2.0
PRODID:-//ISLO Le Sport Autrement - ECPv6.15.20//NONSGML v1.0//EN
CALSCALE:GREGORIAN
METHOD:PUBLISH
X-WR-CALNAME:ISLO Le Sport Autrement
X-ORIGINAL-URL:https://islo.info
X-WR-CALDESC:Évènements pour ISLO Le Sport Autrement
REFRESH-INTERVAL;VALUE=DURATION:PT1H
X-Robots-Tag:noindex
X-PUBLISHED-TTL:PT1H
BEGIN:VTIMEZONE
TZID:Europe/Paris
BEGIN:DAYLIGHT
TZOFFSETFROM:+0100
TZOFFSETTO:+0200
TZNAME:CEST
DTSTART:20240331T010000
END:DAYLIGHT
BEGIN:STANDARD
TZOFFSETFROM:+0200
TZOFFSETTO:+0100
TZNAME:CET
DTSTART:20241027T010000
END:STANDARD
BEGIN:DAYLIGHT
TZOFFSETFROM:+0100
TZOFFSETTO:+0200
TZNAME:CEST
DTSTART:20250330T010000
END:DAYLIGHT
BEGIN:STANDARD
TZOFFSETFROM:+0200
TZOFFSETTO:+0100
TZNAME:CET
DTSTART:20251026T010000
END:STANDARD
BEGIN:DAYLIGHT
TZOFFSETFROM:+0100
TZOFFSETTO:+0200
TZNAME:CEST
DTSTART:20260329T010000
END:DAYLIGHT
BEGIN:STANDARD
TZOFFSETFROM:+0200
TZOFFSETTO:+0100
TZNAME:CET
DTSTART:20261025T010000
END:STANDARD
END:VTIMEZONE
BEGIN:VEVENT
DTSTART;TZID=Europe/Paris:20251214T080000
DTEND;TZID=Europe/Paris:20251214T170000
DTSTAMP:20260422T014542
CREATED:20251027T104325Z
LAST-MODIFIED:20251126T141329Z
UID:3007-1765699200-1765731600@islo.info
SUMMARY:🎄 Coupe Roger BARBE – La traditionnelle coupe de Noël à Magné
DESCRIPTION:Le dimanche 14 décembre 2025\, le Dojo du Complexe Sportif de Magné accueillera la Coupe Roger BARBE\, un rendez-vous incontournable organisé sous l’égide de l’ISLO.Cette compétition\, aussi conviviale que dynamique\, célèbre l’esprit des arts martiaux et la passion du taekwondo dans une ambiance de fête avant les vacances de Noël. \n🥋 Au programme :\nLes participants s’affronteront sur plusieurs épreuves : \n\n\nDeux coups de pied \n\n\nSaut \n\n\nParcours \n\n\nSabre \n\n\n🕘 Horaires :\n\n\nBenjamins & Minimes : 9h00 à 13h00 \n\n\nBabies\, Pupilles & Cadets : 13h30 à 18h00 \n\n\n👉 L’inscription est fixée à 5 € pour les licencié(e)s ISLO et 8 € pour les non-licencié(e)s ISLO. \nVenez nombreux partager cette journée sportive et festive\, encourager les jeunes compétiteurs et célébrer la passion du taekwondo autour de cette traditionnelle Coupe de Noël ! \n📞 Informations et inscriptions :\n📧 jmsagory@hotmail.fr📱 06 30 43 36 07
URL:https://islo.info/calendrier/%f0%9f%8e%84-coupe-roger-barbe-la-traditionnelle-coupe-de-noel-a-magne
LOCATION:COMPLEXE SPORTIF DE MAGNÉ\, 424 avenue Marais Poitevin\, MAGNÉ\, 79460\, France
CATEGORIES:TAEKWONDO
ATTACH;FMTTYPE=image/jpeg:https://islo.info/wp-content/uploads/2025/11/COUPE-ROGER-BARBE-14-DECEMBRE.jpg
END:VEVENT
END:VCALENDAR