BEGIN:VCALENDAR
VERSION:2.0
PRODID:-//ISLO Le Sport Autrement - ECPv6.15.20//NONSGML v1.0//EN
CALSCALE:GREGORIAN
METHOD:PUBLISH
X-WR-CALNAME:ISLO Le Sport Autrement
X-ORIGINAL-URL:https://islo.info
X-WR-CALDESC:Évènements pour ISLO Le Sport Autrement
REFRESH-INTERVAL;VALUE=DURATION:PT1H
X-Robots-Tag:noindex
X-PUBLISHED-TTL:PT1H
BEGIN:VTIMEZONE
TZID:Europe/Paris
BEGIN:DAYLIGHT
TZOFFSETFROM:+0100
TZOFFSETTO:+0200
TZNAME:CEST
DTSTART:20230326T010000
END:DAYLIGHT
BEGIN:STANDARD
TZOFFSETFROM:+0200
TZOFFSETTO:+0100
TZNAME:CET
DTSTART:20231029T010000
END:STANDARD
BEGIN:DAYLIGHT
TZOFFSETFROM:+0100
TZOFFSETTO:+0200
TZNAME:CEST
DTSTART:20240331T010000
END:DAYLIGHT
BEGIN:STANDARD
TZOFFSETFROM:+0200
TZOFFSETTO:+0100
TZNAME:CET
DTSTART:20241027T010000
END:STANDARD
BEGIN:DAYLIGHT
TZOFFSETFROM:+0100
TZOFFSETTO:+0200
TZNAME:CEST
DTSTART:20250330T010000
END:DAYLIGHT
BEGIN:STANDARD
TZOFFSETFROM:+0200
TZOFFSETTO:+0100
TZNAME:CET
DTSTART:20251026T010000
END:STANDARD
END:VTIMEZONE
BEGIN:VEVENT
DTSTART;TZID=Europe/Paris:20240525T093000
DTEND;TZID=Europe/Paris:20240525T113000
DTSTAMP:20260423T052602
CREATED:20240507T092841Z
LAST-MODIFIED:20240507T092909Z
UID:1429-1716629400-1716636600@islo.info
SUMMARY:Stage de Préparation de Passage de Grade Jidokwan
DESCRIPTION:
URL:https://islo.info/calendrier/stage-de-preparation-de-passage-de-grade-jidokwan-2
LOCATION:COMPLEXE SPORTIF DE MAGNÉ\, 424 avenue Marais Poitevin\, MAGNÉ\, 79460\, France
CATEGORIES:TAEKWONDO
ATTACH;FMTTYPE=image/jpeg:https://islo.info/wp-content/uploads/2024/05/Taekwondo.jpg
END:VEVENT
END:VCALENDAR